BEGIN:VCALENDAR
VERSION:2.0
PRODID:-//Bourbon On The River - Whiskey Social Club - ECPv6.15.20//NONSGML v1.0//EN
CALSCALE:GREGORIAN
METHOD:PUBLISH
X-WR-CALNAME:Bourbon On The River - Whiskey Social Club
X-ORIGINAL-URL:https://bourbonontheriver.com
X-WR-CALDESC:Events for Bourbon On The River - Whiskey Social Club
REFRESH-INTERVAL;VALUE=DURATION:PT1H
X-Robots-Tag:noindex
X-PUBLISHED-TTL:PT1H
BEGIN:VTIMEZONE
TZID:America/New_York
BEGIN:DAYLIGHT
TZOFFSETFROM:-0500
TZOFFSETTO:-0400
TZNAME:EDT
DTSTART:20240310T070000
END:DAYLIGHT
BEGIN:STANDARD
TZOFFSETFROM:-0400
TZOFFSETTO:-0500
TZNAME:EST
DTSTART:20241103T060000
END:STANDARD
BEGIN:DAYLIGHT
TZOFFSETFROM:-0500
TZOFFSETTO:-0400
TZNAME:EDT
DTSTART:20250309T070000
END:DAYLIGHT
BEGIN:STANDARD
TZOFFSETFROM:-0400
TZOFFSETTO:-0500
TZNAME:EST
DTSTART:20251102T060000
END:STANDARD
BEGIN:DAYLIGHT
TZOFFSETFROM:-0500
TZOFFSETTO:-0400
TZNAME:EDT
DTSTART:20260308T070000
END:DAYLIGHT
BEGIN:STANDARD
TZOFFSETFROM:-0400
TZOFFSETTO:-0500
TZNAME:EST
DTSTART:20261101T060000
END:STANDARD
END:VTIMEZONE
BEGIN:VEVENT
DTSTART;TZID=America/New_York:20250605T180000
DTEND;TZID=America/New_York:20250605T210000
DTSTAMP:20260421T071420
CREATED:20250504T223343Z
LAST-MODIFIED:20250506T012518Z
UID:155-1749146400-1749157200@bourbonontheriver.com
SUMMARY:Whiskey Tasting Experience
DESCRIPTION:Join us for an unforgettable evening at the historic Blennerhassett Hotel in the 1889 “Speakeasy” Club. \nWhether you’re a seasoned whiskey sipper or a curious newcomer\, our Whiskey Tasting Experience invites you to explore a curated selection of exceptional bourbon whiskeys. \n  \nWhat to Expect: \n\nExperience a guided bourbon whiskey flight tasting led by experts\nEnjoy artisanal foods and hors d’oeuvres\nComplimentary souvenir whiskey tasting glass and other giveaways\nChances to win raffles and other prizes\nIncludes rare and allocated bourbon whiskeys: Blanton’s\, Eagle Rare\, Colonel E.H. Taylor\, and Buffalo Trace\n\n    \nDoors open: 6:00 pm \nTasting Experience Begins: 7:00 pm \n  \nRaise your glass and join us for a night of great whiskey\, great company\, and unforgettable flavor.Limited spots available – secure your seat now!
URL:https://bourbonontheriver.com/event/whiskey-tasting-experience/
LOCATION:Blennerhassett Hotel – 1889 Club\, 320 Market Street\, Parkersburg\, WV\, 26101\, United States
ORGANIZER;CN="Bourbon On The River":MAILTO:justin@bourbonontheriver.com
END:VEVENT
END:VCALENDAR